BEGIN:VCALENDAR
PRODID:-//HH//NONSGML Cascade Server//EN
VERSION:2.0
X-WR-CALNAME:Engineering Projects in Community Service Officer Election Event
X-WR-TIMEZONE:America/Chicago
X-WR-CALDESC:
BEGIN:VTIMEZONE
TZID:America/Chicago
BEGIN:DAYLIGHT
TZOFFSETFROM:-0500
TZOFFSETTO:-0400
TZNAME:EDT
DTSTART:19700308T020000
RRULE:FREQ=YEARLY;BYMONTH=3;BYDAY=2SU
END:DAYLIGHT
BEGIN:STANDARD
TZOFFSETFROM:-0400
TZOFFSETTO:-0500
TZNAME:CST
DTSTART:19701101T020000
RRULE:FREQ=YEARLY;BYMONTH=11;BYDAY=1SU
END:STANDARD
END:VTIMEZONE
BEGIN:VEVENT
DTSTART:20260422T190000
DTEND:20260422T203000
DTSTAMP:20260419T004638
UID:8871f50481736a2d147710e43fa8408a
CREATED:20260413T150422
DESCRIPTION:Interested in leadership? EPICS is holding officer elections. 
 Run\, build skills\, lead projects\, and help shape the club's future!
LAST-MODIFIED:20260413T150422
LOCATION:EB 2.04.26B
SEQUENCE:0
STATUS:CONFIRMED
SUMMARY:Engineering Projects in Community Service Officer Election Event
TRANSP:OPAQUE
END:VEVENT
END:VCALENDAR
