BEGIN:VCALENDAR
PRODID:-//HH//NONSGML Cascade Server//EN
VERSION:2.0
X-WR-CALNAME:NOMAS- Mentor Happy Hour
X-WR-TIMEZONE:America/Chicago
X-WR-CALDESC:
BEGIN:VTIMEZONE
TZID:America/Chicago
BEGIN:DAYLIGHT
TZOFFSETFROM:-0500
TZOFFSETTO:-0400
TZNAME:EDT
DTSTART:19700308T020000
RRULE:FREQ=YEARLY;BYMONTH=3;BYDAY=2SU
END:DAYLIGHT
BEGIN:STANDARD
TZOFFSETFROM:-0400
TZOFFSETTO:-0500
TZNAME:CST
DTSTART:19701101T020000
RRULE:FREQ=YEARLY;BYMONTH=11;BYDAY=1SU
END:STANDARD
END:VTIMEZONE
BEGIN:VEVENT
DTSTART:20260410T113000
DTEND:20260410T133000
DTSTAMP:20260421T010220
UID:2c2747d081736a2d147710e49dc9597f
CREATED:20260326T165744
DESCRIPTION:The finally of design week invites students to engage and netw
 ork with design professionals! They are encouraged to bring their work or 
 portfolios and explore meaningful conversations with our local designers! 
 Prizes for the cafe passports will be given out here!
LAST-MODIFIED:20260330T144219
LOCATION:ORP Student Union\, 4th Floor
SEQUENCE:0
STATUS:CONFIRMED
SUMMARY:NOMAS- Mentor Happy Hour
TRANSP:OPAQUE
END:VEVENT
END:VCALENDAR
